Workbook
Name _tds1: #REF!
Name _tds1: #REF!
Name _tds2: #REF!
Name _tds2: #REF!
Name AIR.Code001: #REF!
Name AIR.Code001: #REF!
Name AIR.Code002: #REF!
Name AIR.Code002: #REF!
Name AIR.Code003: #REF!
Name AIR.Code003: #REF!
Name AIR.Code004: #REF!
Name AIR.Code004: #REF!
Name AIR.Code005: #REF!
Name AIR.Code005: #REF!
Name AIR.Code006: #REF!
Name AIR.Code006: #REF!
Name AIR.Code007: #REF!
Name AIR.Code007: #REF!
Name AIR.Code008: #REF!
Name AIR.Code008: #REF!
Name AIR.TaxExmpIntInc: #REF!
Name AIR.TaxExmpIntInc: #REF!
Name Bank1: #REF!
Name Bank1: #REF!
Name Bank10: #REF!
Name Bank10: #REF!
Name Bank11: #REF!
Name Bank11: #REF!
Name Bank12: #REF!
Name Bank12: #REF!
Name Bank2: #REF!
Name Bank2: #REF!
Name Bank3: #REF!
Name Bank3: #REF!
Name Bank4: #REF!
Name Bank4: #REF!
Name Bank5: #REF!
Name Bank5: #REF!
Name Bank6: #REF!
Name Bank6: #REF!
Name Bank6PCAR: #REF!
Name Bank6PCAR: #REF!
Name Bank7: #REF!
Name Bank7: #REF!
Name Bank8: #REF!
Name Bank8: #REF!
Name Bank9: #REF!
Name Bank9: #REF!
Name BankAccNo: #REF!
Name BankAccNo: #REF!
Name BankArrear: #REF!
Name BankArrear: #REF!
Name BankArrear0: #REF!
Name BankArrear0: #REF!
Name BankArrear1: #REF!
Name BankArrear1: #REF!
Name BankArrear2: #REF!
Name BankArrear2: #REF!
Name BankArrear3: #REF!
Name BankArrear3: #REF!

Sheet How To Use
B2: vk;dj x.kuk izi= o"kZ foÙkh; 2024-25 ¼dj fu/kkZj.k o"kZ 2025-26½ MS Excel Utility
B3: How to use this Utility
B4: If you have Hindi font problem, then first you should install Hindi font Mfdev010.ttf & DevLys010.ttf in your computer.
B5: Master Sheet
B6: 1 | C6: vkidks ftrus dkfeZdksa dh vk;dj x.kuk djuh gS] loZizFke mruh ckj odZcqd dks muds uke ls Save as dj ysosaA
B7: 2 | C7: ekLVj 'khV esa lHkh ihys lsy dh iwfrZ vo'; djsaA
B8: GA 55 A Sheet
B9: 1 | C9: vkius GA55A Sheet esa Copy/ Paste, delete dk iz;ksx fd;k gS rks vxys dkfeZd ds fy, Ýs'k 'khV dke esa ysaA
B10: 2 | C10: GA55A Sheet esa Other Allowance/ Other Deduction ds lsy Unlock gS] budk uke ifjofrZr fd;k tk ldrk gSA
B11: 3 | C11: DA arrear esa PL Arrear Hkh tksM+k x;k gSA cksul ds uhps Row Heading Cell Unlock gS] budk uke ifjofrZr fd;k tk ldrk gSA
B12: 4 | C12: is eSustj ls th-,- 55 fudkydj vFkok is iksfLVax ls Gross Salary, Total Deduction, Net Payment dk feyku dj ysosaA vUrj vkus ij esU;wvy :Ik ls MkVk cny ysaA
B13: 5
B14: 5 | C14: nks ;k nks ls vf/kd DDO ds v/khu lsok gksus ij QkWeZ ua- 16 vyx vyx izkIr djus ds fy, GA 55 vyx vyx rS;kj djuk gksxkA blds fy, GA 55 esa vko';d iwfrZ djrs gq, 'ks"k ROW dks [kkyh NksM+ nsaA Other Deduction Sheet esa Standard Deduction 0 ;k 75000 ;k 50000 pqusaA
B16: Other Deduction Sheet
C17: bl 'khV esa osru ds vfrfjDr vk;] fofHkUu dVkSfr;k¡] fofHkUu tek jkf'k@NwV] osru ds vykok dkVk x;k vk;dj vkfn fooj.k fy[kk tkuk gSA
B18: Computation Sheet (Old / New Tax Regime)
C19: bl 'khV esa GA55A rFkk Other Dedution dk Data Lor% vk;sxkA bl 'khV esa vkidks Edit dh vuqefr ugha gSA tks Hkh ifjorZu djuk gS GA55A rFkk Other Dedution 'khV esa gh djsA
B21: Print
C22: GA55A & Tax Sheet dks isij lkbt A4 ij Page Setup fd;k gqvk gSA Old Tax Regime / New Tax Regime esa ls ftlesa vkidks Qk;nk gks mls pqusA lh/ks nksuksa 'khV GA55A & Tax Regime Sheet dk vkxs ihNs fizaV ysaA
B23: ;g odZcqd fo'ks"kdj jktLFkku ds f'k{kdksa dh mi;ksfxrk ds fy, rS;kj dh xbZ gSA ladyu ,oa x.kuk esa iw.kZ lko/kkuh j[kh xbZ gSA fQj Hkh =qfV @ fdlh Hkh izdkj dh fofHkUurk dh fLFkfr esa vk;dj foHkkx ds fu;e gh ekU; gSA rS;kjdrkZ dk dksbZ mRrjnkf;Ro ugha gksxkA
B24: ;g odZcqd www.rssrashtriya.org ij miyC/k gSA lkHkkj % pUnz izdk'k dqehZ] izk/;kid HkkSfrdh] jk-m-ek-fo- VksMkjk;flag ¼dsdM+h½ fdlh Hkh izdkj dh rduhdh leL;k@lq>ko ds fy, bZesy djsa& cpkurmi@gmail.com

Sheet Master
B1: MASTER DATA | H1: L-1
B2: lHkh ihys lsy vo'; HkjsaA | H2: L-2
B3: dk;kZy; dk uke % | C3: ADJ 1, Bikaner | H3: L-3
B4: dk;kZy; dk TAN % | C4: AAAAXXXXXA | D4: DDO dk uke % | E4: Ms Vamita Singh | H4: L-4
B5: dkfeZd dk uke % | C5: Mahesh Mahala | D5: dkfeZd dk in % | E5: Informatic Assistant | H5: L-5
B6: is ysoy % | C6: L-10 | D6: lsok dk uke ¼dSMj@laoxZ½ % | E6: State Service | H6: L-6
B7: dkfeZd dk PAN % | C7: CKOPM6881K | D7: cSad [kkrk la[;k % | H7: L-7
B8: SI Number : | D8: GPF No : | G8: GIS | H8: L-8
B9: jkT; chek ekfld dVkSrh % | C9: 3000 | D9: Mobile No : | E9: 8696048748 | G9: 0 | H9: L-9
B10: ekpZ 2024 dk ewy osru % | C10: 35800 | D10: Current Rate of HRA : | E10: 0.2 | G10: 700 | H10: L-10
B11: D;k vkius fofÙk; o"kZ 2024&25 esa lefZiZr fy;k gS \ | C11: YES | D11: lefZiZr fcy cukus dk ekg % | E11: 6 | G11: 1400 | H11: L-11
B12: LIC Premium Deduction From Salary ? | C12: 0 | D12: lewg nq?kZVuk chek izhfe;e % | E12: 0 | G12: 2100 | H12: L-12
B13: D;k vkidks cksul feyk gS \ | C13: YES | D13: fgrdkjh fuf/k dVkSfr djuh gS % | E13: YES | H13: L-13
B14: D;k vki ofj"B ukxfjd ¼60&80 vk;qoxZ½ esa vkrs gS \ | C14: NO | D14: 'kgjh {kfriwfrZ HkÙkk (CCA) : | E14: 620 | H14: L-14
B15: ;g odZcqd www.rssrashtriya.org ij miyC/k gSA fdlh Hkh izdkj dh rduhdh leL;k@lq>ko ds fy, bZesy djsa& cpkurmi@gmail.com | H15: L-15
H16: L-16
H17: L-17
H18: L-18
H19: L-19
H20: L-20
H21: L-21
H22: L-22
H23: L-23
H24: L-24

Sheet GA55A
C2: =IF(Master!C3="","",CONCATENATE("Office of the"," ",Master!C3)) -> Office of the ADJ 1, Bikaner
C3: Salary and Deduction Detail for FY : 2024-25
C5: Name : | D5: =IF(Master!C5="","",Master!C5) -> Mahesh Mahala | I5: PAN : | K5: =IF(Master!C7="","",Master!C7) -> CKOPM6881K | Q5: TAN: | S5: =IF(Master!C4="","",Master!C4) -> AAAAXXXXXA | Y5: Bank A/c : | AA5: =IF(Master!E7="","",Master!E7)
C6: Post : | D6: =IF(Master!C6="",Master!E5,IF(Master!E5="","",CONCATENATE(Master!E5," ","(",Master!C6,")"))) -> Informatic Assistant (L-10) | I6: SI No : | K6: =IF(Master!C8="","",Master!C8) | Q6: =Master!D8 -> GPF No : | S6: =IF(Master!E8="","",Master!E8) | Y6: Mobile No. : | AA6: =IF(Master!E9="","",Master!E9) -> 8696048748
C7: Month | D7: Basic Pay | E7: D.A. | F7: H.R.A. | G7: Spl. Pay | H7: CCA | I7: Washing Allow. | J7: ROP (If any, put the value in minus) | K7: BONUS | L7: Other Allowance | M7: Gross Salary | N7: GPF/GPF 2004 | O7: GPF LOAN | P7: SI | Q7: SI LOAN + INT | R7: RGHS | S7: LIC | T7: Group Insurance Accidental | U7: Income Tax / TDS | V7: Hitkari nidhi | W7: CM Corona Relief | X7: Cooperative | Y7: Other Deduction | Z7: Total Deduction | AA7: Net Payment | AB7: Bill No. - Date / TV No. - Date
B8: 3 | C8: 45352 | D8: =Master!C10 -> 35800 | E8: =ROUND(50%*D8,0) -> 17900 | F8: =IF(Master!$E$10="NA",0,IF(Master!$E$10=10%,ROUND(0.09*D8,0),ROUND(0.18*D8,0))) -> 6444 | G8: 0 | H8: =IF(Master!E14="NA","",Master!E14) -> 620 | I8: 0 | J8: 0 | M8: =SUM(D8:L8) -> 60764 | N8: 6000 | O8: 0 | P8: =Master!$C$9 -> 3000 | Q8: 0 | R8: 440 | S8: =Master!$C$12 -> 0 | T8: 0 | U8: 0 | Z8: =SUM(N8:Y8) -> 9440 | AA8: =M8-Z8 -> 51324
B9: 4 | C9: 45383 | D9: =D8 -> 35800 | E9: =ROUND(50%*D9,0) -> 17900 | F9: =IF(Master!$E$10="NA",0,IF(Master!$E$10=10%,ROUND(0.09*D9,0),ROUND(0.18*D9,0))) -> 6444 | G9: =IF(G$8=0,0,G8) -> 0 | H9: =IF(H$8=0,0,H8) -> 620 | I9: =IF(I$8=0,0,I8) -> 0 | J9: =J8 -> 0 | M9: =SUM(D9:L9) -> 60764 | N9: 6000 | O9: =O8 -> 0 | P9: =Master!$C$9 -> 3000 | Q9: =IF(Q$8=0,0,Q8) -> 0 | R9: 440 | S9: =S8 -> 0 | T9: =Master!E12 -> 0 | U9: =U8 -> 0 | Y9: =Y8 -> 0 | Z9: =SUM(N9:Y9) -> 9440 | AA9: =M9-Z9 -> 51324
B10: 5 | C10: 45413 | D10: =D9 -> 35800 | E10: =ROUND(50%*D10,0) -> 17900 | F10: =IF(Master!$E$10="NA",0,IF(Master!$E$10=10%,ROUND(0.09*D10,0),ROUND(0.18*D10,0))) -> 6444 | G10: =IF(G$8=0,0,G9) -> 0 | H10: =IF(H$8=0,0,H9) -> 620 | I10: =IF(I$8=0,0,I9) -> 0 | J10: =J9 -> 0 | M10: =SUM(D10:L10) -> 60764 | N10: 6000 | O10: =O9 -> 0 | P10: =P9 -> 3000 | Q10: =IF(Q$8=0,0,Q9) -> 0 | R10: 440 | S10: =S9 -> 0 | T10: 0 | U10: =U9 -> 0 | Y10: =Y9 -> 0 | Z10: =SUM(N10:Y10) -> 9440 | AA10: =M10-Z10 -> 51324
B11: 6 | C11: 45444 | D11: =D10 -> 35800 | E11: =ROUND(50%*D11,0) -> 17900 | F11: =IF(Master!$E$10="NA",0,IF(Master!$E$10=10%,ROUND(0.09*D11,0),ROUND(0.18*D11,0))) -> 6444 | G11: =IF(G$8=0,0,G10) -> 0 | H11: =IF(H$8=0,0,H10) -> 620 | I11: =IF(I$8=0,0,I10) -> 0 | J11: =J10 -> 0 | M11: =SUM(D11:L11) -> 60764 | N11: 6000 | O11: =O10 -> 0 | P11: =P10 -> 3000 | Q11: =IF(Q$8=0,0,Q10) -> 0 | R11: 440 | S11: =S10 -> 0 | T11: 0 | U11: =U10 -> 0 | X11: 0 | Y11: =Y10 -> 0 | Z11: =SUM(N11:Y11) -> 9440 | AA11: =M11-Z11 -> 51324
B12: 7 | C12: 45474 | D12: =MROUND(ROUND(1.03*D11,0),100) -> 36900 | E12: =ROUND(50%*D12,0) -> 18450 | F12: =IF(Master!$E$10="NA",0,IF(Master!$E$10=10%,ROUND(0.09*D12,0),ROUND(0.18*D12,0))) -> 6642 | G12: =IF(G$8=0,0,G11) -> 0 | H12: =IF(H$8=0,0,H11) -> 620 | I12: =IF(I$8=0,0,I11) -> 0 | J12: =J11 -> 0 | M12: =SUM(D12:L12) -> 62612 | N12: 6000 | O12: =O11 -> 0 | P12: =P11 -> 3000 | Q12: =IF(Q$8=0,0,Q11) -> 0 | R12: 658 | S12: =S11 -> 0 | T12: 0 | U12: =U11 -> 0 | Y12: =Y11 -> 0 | Z12: =SUM(N12:Y12) -> 9658 | AA12: =M12-Z12 -> 52954
B13: 8 | C13: 45505 | D13: =D12 -> 36900 | E13: =ROUND(50%*D13,0) -> 18450 | F13: =IF(Master!$E$10="NA",0,IF(Master!$E$10=10%,ROUND(0.09*D13,0),ROUND(0.18*D13,0))) -> 6642 | G13: =IF(G$8=0,0,G12) -> 0 | H13: =IF(H$8=0,0,H12) -> 620 | I13: =IF(I$8=0,0,I12) -> 0 | J13: =J12 -> 0 | M13: =SUM(D13:L13) -> 62612 | N13: 6000 | O13: =O12 -> 0 | P13: =P12 -> 3000 | Q13: =IF(Q$8=0,0,Q12) -> 0 | R13: 658 | S13: =S12 -> 0 | T13: 0 | U13: =U12 -> 0 | Y13: =Y12 -> 0 | Z13: =SUM(N13:Y13) -> 9658 | AA13: =M13-Z13 -> 52954
B14: 9 | C14: 45536 | D14: =D13 -> 36900 | E14: =ROUND(50%*D14,0) -> 18450 | F14: =IF(Master!$E$10="NA",0,IF(Master!$E$10=10%,ROUND(0.09*D14,0),ROUND(0.18*D14,0))) -> 6642 | G14: =IF(G$8=0,0,G13) -> 0 | H14: =IF(H$8=0,0,H13) -> 620 | I14: =IF(I$8=0,0,I13) -> 0 | J14: =J13 -> 0 | M14: =SUM(D14:L14) -> 62612 | N14: 6000 | O14: =O13 -> 0 | P14: =P13 -> 3000 | Q14: =IF(Q$8=0,0,Q13) -> 0 | R14: 658 | S14: =S13 -> 0 | T14: 0 | U14: =U13 -> 0 | Y14: =Y13 -> 0 | Z14: =SUM(N14:Y14) -> 9658 | AA14: =M14-Z14 -> 52954
B15: 10 | C15: 45566 | D15: =D14 -> 36900 | E15: =ROUND(50%*D15,0) -> 18450 | F15: =IF(Master!$E$10="NA",0,IF(Master!$E$10=10%,ROUND(0.09*D15,0),ROUND(0.18*D15,0))) -> 6642 | G15: =IF(G$8=0,0,G14) -> 0 | H15: =IF(H$8=0,0,H14) -> 620 | I15: =IF(I$8=0,0,I14) -> 0 | J15: =J14 -> 0 | M15: =SUM(D15:L15) -> 62612 | N15: 6000 | O15: =O14 -> 0 | P15: =P14 -> 3000 | Q15: =IF(Q$8=0,0,Q14) -> 0 | R15: 658 | S15: =S14 -> 0 | T15: 0 | U15: =U14 -> 0 | Y15: =Y14 -> 0 | Z15: =SUM(N15:Y15) -> 9658 | AA15: =M15-Z15 -> 52954
B16: 11 | C16: 45597 | D16: =D15 -> 36900 | E16: =ROUND(53%*D16,0) -> 19557 | F16: =IF(Master!$E$10="NA",0,IF(Master!$E$10=10%,ROUND(10%*D16,0),ROUND(20%*D16,0))) -> 7380 | G16: =IF(G$8=0,0,G15) -> 0 | H16: =IF(H$8=0,0,H15) -> 620 | I16: =IF(I$8=0,0,I15) -> 0 | J16: =J15 -> 0 | M16: =SUM(D16:L16) -> 64457 | N16: 6000 | O16: =O15 -> 0 | P16: =P15 -> 3000 | Q16: =IF(Q$8=0,0,Q15) -> 0 | R16: 658 | S16: =S15 -> 0 | T16: 0 | U16: =U15 -> 0 | Y16: =Y15 -> 0 | Z16: =SUM(N16:Y16) -> 9658 | AA16: =M16-Z16 -> 54799
B17: 12 | C17: 45627 | D17: =D16 -> 36900 | E17: =ROUND(53%*D17,0) -> 19557 | F17: =IF(Master!$E$10="NA",0,IF(Master!$E$10=10%,ROUND(10%*D17,0),ROUND(20%*D17,0))) -> 7380 | G17: =IF(G$8=0,0,G16) -> 0 | H17: =IF(H$8=0,0,H16) -> 620 | I17: =IF(I$8=0,0,I16) -> 0 | J17: =J16 -> 0 | M17: =SUM(D17:L17) -> 64457 | N17: 6000 | O17: =O16 -> 0 | P17: =P16 -> 3000 | Q17: =IF(Q$8=0,0,Q16) -> 0 | R17: 658 | S17: =S16 -> 0 | T17: 0 | U17: =U16 -> 0 | Y17: =Y16 -> 0 | Z17: =SUM(N17:Y17) -> 9658 | AA17: =M17-Z17 -> 54799
B18: 1 | C18: 45658 | D18: =D17 -> 36900 | E18: =ROUND(53%*D18,0) -> 19557 | F18: =IF(Master!$E$10="NA",0,IF(Master!$E$10=10%,ROUND(10%*D18,0),ROUND(20%*D18,0))) -> 7380 | G18: =IF(G$8=0,0,G17) -> 0 | H18: =IF(H$8=0,0,H17) -> 620 | I18: =IF(I$8=0,0,I17) -> 0 | J18: =J17 -> 0 | M18: =SUM(D18:L18) -> 64457 | N18: 6000 | O18: =O17 -> 0 | P18: =P17 -> 3000 | Q18: =IF(Q$8=0,0,Q17) -> 0 | R18: 658 | S18: =S17 -> 0 | U18: =U17 -> 0 | Y18: =Y17 -> 0 | Z18: =SUM(N18:Y18) -> 9658 | AA18: =M18-Z18 -> 54799
B19: 2 | C19: 45689 | D19: =D18 -> 36900 | E19: =ROUND(53%*D19,0) -> 19557 | F19: =IF(Master!$E$10="NA",0,IF(Master!$E$10=10%,ROUND(10%*D19,0),ROUND(20%*D19,0))) -> 7380 | G19: =IF(G$8=0,0,G18) -> 0 | H19: =IF(H$8=0,0,H18) -> 620 | I19: =IF(I$8=0,0,I18) -> 0 | J19: =J18 -> 0 | M19: =SUM(D19:L19) -> 64457 | N19: 6000 | O19: =O18 -> 0 | P19: =P18 -> 3000 | Q19: =IF(Q$8=0,0,Q18) -> 0 | R19: 658 | S19: =S18 -> 0 | T19: 0 | U19: =U18 -> 0 | Y19: =Y18 -> 0 | Z19: =SUM(N19:Y19) -> 9658 | AA19: =M19-Z19 -> 54799
C20: DA Arrear 1/24 to 2/24 | E20: =(ROUND(D8*50%,0)-ROUND(D8*46%,0))*2 -> 2864 | M20: =SUM(D20:L20) -> 2864 | N20: =E20 -> 2864 | Z20: =SUM(N20:Y20) -> 2864 | AA20: =M20-Z20 -> 0
C21: DA Arrear 7/24 to 10/24 | E21: =AE25 -> 4428 | M21: =SUM(D21:L21) -> 4428 | N21: =E21 -> 4428 | Z21: =SUM(N21:Y21) -> 4428 | AA21: =M21-Z21 -> 0 | AE21: =ROUND(D12*3%,0) -> 1107 | AF21: =ROUND(AE21*10%,0) -> 111 | AG21: =AE21-AF21 -> 996
C22: Surrender 2024-25 | D22: 18450 | E22: =IF(AND(Master!E11>3,Master!E11<11),ROUND(GA55A!D22*50%,0),IF(AND(Master!E11>10,Master!E11<13),ROUND(GA55A!D22*53%,0),ROUND(GA55A!D22*53%,0))) -> 9225 | M22: =SUM(D22:L22) -> 27675 | Z22: =SUM(N22:Y22) -> 0 | AA22: =M22-Z22 -> 27675 | AE22: =ROUND(D13*3%,0) -> 1107 | AF22: =ROUND(AE22*10%,0) -> 111 | AG22: =AE22-AF22 -> 996
C23: Bonus 2023-24 | K23: =IF(Master!C13="YES",6774,0) -> 6774 | M23: =SUM(D23:L23) -> 6774 | N23: =IF(K23="","",ROUND((K23*25%),0)) -> 1694 | Z23: =SUM(N23:Y23) -> 1694 | AA23: =M23-Z23 -> 5080 | AE23: =ROUND(D14*3%,0) -> 1107 | AF23: =ROUND(AE23*10%,0) -> 111 | AG23: =AE23-AF23 -> 996
C24: Salary Arrear | M24: =SUM(D24:L24) -> 0 | Z24: =SUM(N24:Y24) -> 0 | AA24: =M24-Z24 -> 0 | AE24: =ROUND(D15*3%,0) -> 1107
C25: Surrender Arrear | E25: =IF(Master!$C$11="NO","",IF(AND(Master!$E$11>6,Master!$E$11<11),ROUND(D22*3%,0),"")) | M25: =SUM(D25:L25) -> 0 | N25: =E25 | Z25: =SUM(N25:Y25) -> 0 | AA25: =M25-Z25 -> 0 | AE25: =SUM(AE21:AE24) -> 4428 | AF25: =SUM(AF21:AF24) -> 333 | AG25: =SUM(AG21:AG24) -> 2988
C26: Other 1 | M26: =SUM(D26:L26) -> 0 | Z26: =SUM(N26:Y26) -> 0 | AA26: =M26-Z26 -> 0 | AE26: =IF(Master!C11="YES",IF(AND(Master!E11>6,Master!E11<10),ROUND(D22*3%,0),0)) -> 0
C27: Other 2 | M27: =SUM(D27:L27) -> 0 | Z27: =SUM(N27:Y27) -> 0 | AA27: =M27-Z27 -> 0
C28: TOTAL | D28: =SUM(D8:D27) -> 456850 | E28: =SUM(E8:E27) -> 240145 | F28: =SUM(F8:F27) -> 81864 | G28: =SUM(G8:G27) -> 0 | H28: =SUM(H8:H27) -> 7440 | I28: =SUM(I8:I27) -> 0 | J28: =SUM(J8:J27) -> 0 | K28: =SUM(K8:K27) -> 6774 | ... AA28: =SUM(AA8:AA27) -> 669063
E32: Signature of Employee | AA32: Signature of DDO
E33: =CONCATENATE("(",Master!C5,")") -> (Mahesh Mahala) | M33: www.rssrashtriya.org | AA33: =IF(Master!E4="","",CONCATENATE("(",Master!E4,")")) -> (Ms Vamita Singh)

Sheet Other Deduction
B1: osru ds vfrfjDr dVkSfr;k¡] vk;@tek jkf'k ,oa NwV dk fooj.k
B2: =GA55A!D5& " , " &GA55A!D6&" PAN- "&GA55A!K5 -> Mahesh Mahala , Informatic Assistant (L-10) PAN- CKOPM6881K | L2: 80 c & ccd
B3: 1- edku fdjk;k HkRrk ¼ NwV tks ysuh gS½ | C3: 0 | E3: 19- LVs.MMZ fMMsD'ku :i;s /kkjk 16 (ia) | F3: 75000 | G3: GROSS SALARY | DT3: UPS Kuhada Khurd
B4: 2- euksjatu Hkrk /kkjk 16 ¼ii½ ds vUrxZr | C4: 0 | E4: 20- cpr [kkrs (Saving Accounts) dh tek jkf'k ij izkIr C;kt | F4: 0 | G4: ='Tax (Old Regime)'!P4 -> 793073 | L4: =SUM('Tax (Old Regime)'!H21:I30) -> 116986
B5: 3- O;o;k; dj /kkjk 16 ¼iii½ ds vUrxrZ | C5: 0 | E5: 21- ,QMh vkfn vU; tek jkf'k ij izkIr dqy C;kt ¼ihih,Q dks NksM+dj½ | F5: 0 | G5: TOTAL TAX | K5: =SUM(F4:F5) -> 0 | L5: =SUM('Tax (Old Regime)'!N23:O29) -> 60000
B6: 4- x`g lEifr ls izkIr fdjk;k & vk; | C6: 0 | E6: 22- vU; fofHkUu L=ks+= ¼C;kt ds vykok½ ls dqy vk; | F6: 0 | G6: Old Tax Regime | K6: =SUM(F4:F6) -> 0 | L6: ='Tax (Old Regime)'!P32 -> 0
B7: 5- x`gdj | C7: 0 | E7: 23- /kkjk 80 lh ds vUrxZr vU; en esa tek djk;h x;h jkf'k | F7: 60000 | G7: ='Tax (Old Regime)'!P61 -> 32359 | H7: T | I7: =IF(L7-150001<0,0,IF(L7-150000<50000,L7-150000,50000)) -> 26986 | L7: =SUM(L4:L6) -> 176986 | Q7: BASIC | R7: DA | S7: TOTAL
B8: 6- x`g _.k fdLr ewy/ku | C8: 0 | E8: 24- /kkjk 80CCC - isa'ku Iyku gsrq va'knku ¼,u-ih-,l- ds avykok½ | F8: 0 | G8: New Tax Regime | H8: A | P8: 1 | Q8: =GA55A!D8 -> 35800 | R8: =GA55A!E8 -> 17900 | S8: =SUM(Q8:R8) -> 53700
B9: 7- x`g _.k fdLr C;kt | C9: 0 | E9: 25- ljdkjh isa'ku ;kstuk esa deZpkjh dk va'knku vf/kdre osru dk 10% /kkjk 80CCD(1) | F9: 0 | G9: ='Tax (New Regime)'!P52 -> 18793 | H9: X | J9: =IF(K9>L9,L9,K9) -> #REF! | K9: =IF(Master!#REF!="No",0,ROUND(10%*GA55A!M28,0)) -> #REF! | L9: =IF(Master!#REF!="No",0,GA55A!N28) -> #REF! | P9: 2 | Q9: =GA55A!D9 -> 35800 | R9: =GA55A!E9 -> 17900 | S9: =SUM(Q9:R9) -> 53700
B10: 8- thou chek izhfe;e ¼tks osru ls ugh dkVk x;k½ LIC | C10: 0 | E10: 26- /kkjk 80CCD(1B) uohu isa'ku ;kstuk esa vfrfjDr va'knku ¼vf/kdre :- 50]000½ | F10: 0 | G10: Tax Deposited | I10: =IF(Master!#REF!="NO",50000,I7) -> #REF! | K10: =SUM('Tax (Old Regime)'!I21:I30,'Tax (Old Regime)'!O21:O29) -> 0 | P10: 3 | Q10: =GA55A!D10 -> 35800 | R10: =GA55A!E10 -> 17900 | S10: =SUM(Q10:R10) -> 53700 | DT10: UPS Banediya Charnan
B11: 9- ih-,y-vkbZ- (PLI) | C11: 0 | E11: 27- /kkjk 80D - fpfdRlk chek izhfe;e ¼lkekU; 25000] ofj"B ukxfjd 50000½ | F11: 0 | G11: =GA55A!U28 -> 0 | J11: =IF(Master!C14="No",25000,50000) -> 25000 | P11: 4 | Q11: =GA55A!D11 -> 35800 | R11: =GA55A!E11 -> 17900 | S11: =SUM(Q11:R11) -> 53700 | DT11: UPS Laxmipura Dhakaran
B12: 10- V;w'ku Qhl (Tution Fees) | C12: 0 | E12: 28- /kkjk 80DD- fodykax vkfJrksa ds fpfdRlk mipkj¼vf/kdre 75000] 80% fodykaxrk 125000½ | F12: 0 | G12: Rebate Under Section 80C, 80CCC, 80CCD(1) | P12: 5 | Q12: =GA55A!D12 -> 36900 | R12: =GA55A!E12 -> 18450 | S12: =SUM(Q12:R12) -> 55350 | DT12: UPS Pathraj Kala
B13: 11- ;w- ,y- vkbZ- ih-@okf"kZd Iyku | C13: 0 | E13: 29- /kkjk 80DDB- fof'k"V jksxksa ds mipkj gsrq dVkSrh ¼lkekU; 40000] ofj"B ukxfjd 1 yk[k½ | F13: 0 | J13: =IF(Master!C14="No",40000,100000) -> 40000 | P13: 6 | Q13: =GA55A!D13 -> 36900 | R13: =GA55A!E13 -> 18450 | S13: =SUM(Q13:R13) -> 55350
B14: 12- jk"Vªh; cpr i= (NSC) | C14: 0 | E14: 30- /kkjk 80E - mPp f'k{kk gsrq fy, _.k dk C;kt | F14: 0 | P14: 7 | Q14: =GA55A!D14 -> 36900 | R14: =GA55A!E14 -> 18450 | S14: =SUM(Q14:R14) -> 55350 | DT14: PS Aarampura
B15: 13- jk"Vªh; cpr i= ij vnr C;kt | C15: 0 | E15: 31- /kkjk 80G - /kekZFkZ laLFkkvksa vkfn dks fn;s nku ¼d Js.kh 100% ,oa [k Js.kh 50%½ | F15: =GA55A!W28 -> 0 | G15: ='Tax (Old Regime)'!P31 -> 150000 | P15: 8 | Q15: =GA55A!D15 -> 36900 | R15: =GA55A!E15 -> 18450 | S15: =SUM(Q15:R15) -> 55350 | DT15: UPS Laxmipura Dhakaran
B16: 14- yksd Hkfo"; fuf/k (PPF) | C16: 0 | E16: 32- /kkjk 80U - LFkkbZ 'kkjhfjd fodykaxrk ¼vf/kdre 75000, 80% fodykaxrk 125000½ | F16: 0 | G16: edku fdjk;k NwV ds fy, jlhn dh vko';drk | P16: 9 | Q16: =GA55A!D16 -> 36900 | R16: =GA55A!E16 -> 19557 | S16: =SUM(Q16:R16) -> 56457 | DT16: UPS Raghunathpura
B17: 15- jk"Vªh; cpr Ldhe (NSS) | C17: 0 | E17: 33- /kkjk 80 GGC - jktuhfrd ikVhZ gsrq fn;k x;k nku | F17: 0 | P17: 10 | Q17: =GA55A!D17 -> 36900 | R17: =GA55A!E17 -> 19557 | S17: =SUM(Q17:R17) -> 56457 | DT17: UPS Manda
B18: 16- lqdU;k le`f) ;kstuk (SSY) | C18: 0 | E18: 34- jkgr /kkjk 89 ds vUrxZr | F18: 0 | J18: =S21 -> 66203 | P18: 11 | Q18: =GA55A!D18 -> 36900 | R18: =GA55A!E18 -> 19557 | S18: =SUM(Q18:R18) -> 56457
B19: 17- bfDoVh fyad lsfoax Ldhe | C19: 0 | E19: 35- osru fcy ds vykok tek djk;k x;k aavk;dj (TDS) | F19: 0 | G19: =IF(C3=0,0,J18+C3) -> 0 | P19: 12 | Q19: =GA55A!D19 -> 36900 | R19: =GA55A!E19 -> 19557 | S19: =SUM(Q19:R19) -> 56457
B20: 18- LFkfxr okf"kZdh (Defferred Annuty) | C20: 0 | E20: 36- /kkjk 10¼14½ ds vUrxZr HkÙks tks djeqDr gS | F20: 0 | Q20: =SUM(Q8:Q19) -> 438400 | R20: =SUM(R8:R19) -> 223628 | S20: =SUM(S8:S19) -> 662028 | DT20: UPS Sandla
B21: =IF(G7>=G9,'Tax (New Regime)'!B55,'Tax (Old Regime)'!B64) -> Income Tax Payable (New Tax Regime) | E21: =IF(G7>=G9,'Tax (New Regime)'!P55,'Tax (Old Regime)'!P64) -> 18793 | J21: =GA55A!F28 -> 81864 | S21: =ROUND(S20*10%,0) -> 66203 | DT21: UPS Ramsinghpura
B22: =IF(G7>=G9,"Prefer New Tax Regime","Prefer Old Tax Regime") -> Prefer New Tax Regime | E22: ="Tax Saving = "&IF(G7>G9,G7-G9,G9-G7) -> Tax Saving = 13566 | DT22: GSS Ganeshganj
B23: lkHkkj % pUnz izdk'k dqeh]Z izk/;kid HkkSfrdh] jk-m-ek-fo- VksMkjk;flag ¼Vksad½ fdlh Hkh izdkj dh rduhdh leL;k@lq>ko ds fy, bZesy djsa & cpkurmi@gmail.com
B24: lkHkkj % pUnz izdk'k dqehZZ izk/;kid HkkSfrdh] jk-m-ek-fo- VksMkjk;flag ¼dsdM+h½ fdlh Hkh izdkj dh rduhdh leL;k@lq>ko ds fy, bZesy djsa & cpkurmi@gmail.com

Sheet Tax (New Regime)
B1: =GA55A!C2 -> Office of the ADJ 1, Bikaner | O1: Old Tax Regime
B2: vk;dj x.kuk izi= o"kZ 2024-25 ¼dj fu/kkZj.k o"kZ 2025-26½
B3: 1 | C3: uke deZpkjh % | E3: =GA55A!D5 -> Mahesh Mahala | K3: in % | L3: =GA55A!D6 -> Informatic Assistant (L-10) | O3: PAN : | P3: =IF(GA55A!K5="","",GA55A!K5) -> CKOPM6881K
B4: 2 | C4: vk; % o"kZ& 2024-25 esa izkIr dqy osru ¼dj ;ksX; lqfo/kkvksa ds eqY; lfgr ½ | P4: =GA55A!M28 -> 793073
B5: 3 | C5: x`g fdjk;k] /kkjk 10(13 A) ds vUrxrZ ,oa /kkjk 10(14) ds vUrxrZ vU; Hkrs tks dj eqDÙk gSA | P5: ='Other Deduction'!F20 -> 0
B6: 4 | C6: 'ks"k ¼2&3½ | P6: =P4-P5 -> 793073
B7: 5 | C7: ¼i½ LVs.MMZ fMMsD'ku (Standard Deduction) 75,000 ¼vf/kdre½ /kkjk 16 (ia) | M7: =IF('Other Deduction'!F3=0,0,IF(P4<75001,P4,75000)) -> 75000
C8: ¼ii½euksjatu Hkrk /kkjk 16 (ii) ds vUrxrZ ¼ vf/kdre lhek : 5000 ½ | M8: 0
C9: ¼iii½ O;olk; dj /kkjk 16 (iii) ds vUrxrZ | M9: 0
C10: ;ksx (5) | P10: =SUM(M7:O9) -> 75000
B11: 6 | C11: 'ks"k (4-5) | P11: =P6-P10 -> 718073
B12: 7 | C12: ¼v½ x`g lEifr ls vk;% ¼1½ Loa; ds mi;ksx esa &'kwU; | K12: ¼2½ izkIr fdjk;k #- | M12: ='Other Deduction'!C6 -> 0
C13: ¼c½ ?kVk;sa | E13: fdjk;s dk 30% | H13: x`g _.k ij C;kt | K13: x`gdj | M13: ;ksx 7¼c½
E14: 0 | H14: 0 | K14: 0 | M14: 0
C15: 'ks"k &@$¼7¼v½ ,oa ;ksx 7¼c½ dk½ | P15: =M12 -> 0
B16: 8 | C16: dqy 'ks"k &@$ ¼6 ,oa 7½ | P16: =P11+P15 -> 718073
B17: 9 | C17: vU; vk; | P17: ='Other Deduction'!K6 -> 0
B18: 10 | C18: ldy vk; ;ksx (8 + 9) | P18: =P16+P17 -> 718073
B19: 11 | C19: ?kVkb;s dVkSSfr;k¡ %&
C20: (A) /kkjk US 80C, 80CCC,80CCD (1) vf/kdre dVkSrh dh jkf'k | P20: 0
C21: (B) ?kVkb;s& /kkjk 80CCD(2) fu;ksDrk }kjk isa'ku va'knku dh jkf'k ¼vf/kdre osru dk 10%) i`Fkd ls NwV | P21: 0
C22: (C) ?kVkb;s & /kkjk 80CCD (1B) uohu isa'ku ;kstuk esa vfrfjDr va'knku ¼vf/kdre :- 50,000) | P22: 0
C23: ;ksx 11(A+B+C) | P23: =SUM(P20:Q22) -> 0
B24: 12 | C24: vU; dVkSfr;k¡
C25: 1- /kkjk 80 D ,fpfdRlk chek izhfe;e ¼Lo;a]ifr@iRuh o cPpksa ds fy, : 25000] ekrk&firk ds fy, : 25000]lhfu;j flVhtu : 50000½ | P25: 0
C26: 2- /kkjk 80DD fodykax vkfJrksa ds fpfdRlk mipkj ¼vf/kdre 75,000 rFkk 80% ;k vf/kd fodykaxrk 125,000½ | P26: 0
C27: 3- /kkjk 80DDB fof'k"V jksaxksa ds mipkj gsrq dVkSrh ¼vf/kdre : 40,000] lhfu;j flVhtu gsrq : 100,000) | P27: 0
C28: 4- /kkjk 80E mPp f'k{kk gsrq fy, _.k dk C;kt | P28: 0
C29: 5- /kkjk 80G /kekZFkZ laLFkkvksa vkfn dks fn;s nku ¼ d Js.kh esa 100 izfr'kr ,oa [k Js.kh esa 50 izfr'kr½ | P29: 0
C30: 6- /kkjk 80U LFkkbZ :i ls 'kkjhfjd vleFkZrrk dh n'kk esa ¼vf/kdre 75,000 rFkk vf/kfu;e 1995 ds vuqlkj 125,000½ | P30: 0
C31: 7- /kkjk 80 TTA cpr [kkrs ij C;kt dh vf/kdre NwV :- 10,000 U/S 194(IA) | P31: 0
C32: 8- /kkjk 80 TTB - aofj"B ukxfjdksa dks lHkh izdkj ds C;kt ij vf/kdre NwV& 50000 :- U/S 194(A) | P32: 0
C33: 9- /kkjk 80 GGA vuqeksfnr oSKkfud] lkekftd] xzkeh.k fodkl vkfn gsrq fn;k x;k nku | P33: 0
C34: dqy ;ksx 12 ¼ 1 ls 9 rd ½ | P34: =SUM(Q25:Q33) -> 0
B35: 13 | C35: dqy dVkSrh ( 11 + 12) | P35: =P23+P34 -> 0
B36: 14 | C36: dj ;ksX; vk; ( 10 - 13 ) | P36: =(P18-P35) -> 718073
B37: 15 | C37: dqy vk; dh jkf'k dks lEiw.kZ djuk ¼ nl ds xq.kd esa ½ /kkjk 288A | P37: =ROUND(P36,-1) -> 718070
B38: 16 | C38: vk;dj dh x.kuk mijksDr dkWye 15 ds vk/kkj ij
C39: 80 o"kZ ;k vf/kd vk;q | H39: ofj"B ukxfjd ¼60 ls 80 o"kZ rd½ | L39: ,d O;fDr dj nkrk ¼vk;q 60 o"kZ rd½
C40: 3,00,000 rd | F40: Nil | H40: 3,00,000 rd | K40: Nil | L40: 3,00,000 rd | O40: Nil | P40: 0
...

Sheet Tax (Old Regime)
B1: =GA55A!C2 -> Office of the ADJ 1, Bikaner | O1: Old Tax Regime
B2: vk;dj x.kuk izi= o"kZ 2024-25 ¼dj fu/kkZj.k o"kZ 2025-26½
B3: 1 | C3: uke deZpkjh % | E3: =GA55A!D5 -> Mahesh Mahala | K3: in % | L3: =GA55A!D6 -> Informatic Assistant (L-10) | O3: PAN : | P3: =IF(GA55A!K5="","",GA55A!K5) -> CKOPM6881K
B4: 2 | C4: vk; % o"kZ&2024-25 esa izkIr dqy osru ¼ dj ;ksX; lqfo/kkvksa ds eqY; lfgr ½ | P4: ='Tax (New Regime)'!P4:Q4 -> 793073
B5: 3 | C5: x`g fdjk;k] /kkjk 10 (13A) ds vUrxrZ ,oa /kkjk 10 (14) ds vUrxrZ vU; Hkrs tks dj eqDÙk gSA | P5: ='Other Deduction'!C3+'Other Deduction'!F20 -> 0
B6: 4 | C6: 'ks"k (2-3) | P6: =P4-P5 -> 793073
B7: 5 | C7: ¼i½ LVs.MMZ fMMsD'ku (Standard Deduction) 50,000 ¼vf/kdre½ /kkjk 16 (ia) | M7: =IF('Other Deduction'!F3=0,0,IF(P6<50001,P6,50000)) -> 50000
C8: ¼ii½ euksjatu Hkrk /kkjk 16 (ii) ds vUrxrZ ¼ vf/kdre lhek : 5,000 ½ | M8: ='Other Deduction'!C4 -> 0
C9: ¼iii½ O;olk; dj /kkjk 16 (iii) ds vUrxrZ | M9: ='Other Deduction'!C5 -> 0
C10: ;ksx (5) | P10: =SUM(M7:O9) -> 50000
B11: 6 | C11: 'ks"k (4-5) | P11: =P6-P10 -> 743073
B12: 7 | C12: ¼v½ x`g lEifr ls vk;% ¼1½ Loa; ds mi;ksx esa &'kwU; | K12: ¼2½ izkIr fdjk;k #- | M12: ='Other Deduction'!C6 -> 0
C13: ¼c½ ?kVk;sa | E13: fdjk;s dk 30% | H13: x`g _.k ij C;kt | K13: x`gdj | M13: ;ksx 7¼c½
E14: =ROUND(M12*0.3,0) -> 0 | H14: =IF('Other Deduction'!C9>200000,200000,'Other Deduction'!C9) -> 0 | K14: ='Other Deduction'!C7 -> 0 | M14: =E14+H14+K14 -> 0
C15: 'ks"k &@$¼ 7¼v½ ,oa ;ksx 7¼c½ dk½ | P15: =M12-M14 -> 0
B16: 8 | C16: dqy 'ks"k &@$ ¼6 ,oa 7½ | P16: =P11+P15 -> 743073
B17: 9 | C17: vU; vk; | P17: ='Other Deduction'!K6 -> 0
B18: 10 | C18: ldy vk; ;ksx (8+9) | P18: =P16+P17 -> 743073
B19: 11 | C19: ?kVkb;s dVkSSfr;k¡ %& /kkjk US 80C, 80CCC,80CCD (1)
C20: (A) vf/kdre lhek 1]50]000@& ¼/kkjk 80CCE ½ ] ¼/kkjk 80CCD (2), ds vykok
C21: (i) | D21: jkT; chek ¼SI) | H21: =GA55A!P28 -> 36000 | J21: (xi) | K21: ljdkjh isa'ku ;kstuk esa va'knku ECPF vf/kdre osru dk 10 % /kkjk 80CCD(1) | N21: 0
C22: (ii) | D22: thou chek izhfe;e ¼LIC) | H22: ='Other Deduction'!C10+GA55A!S28 -> 0
C23: (iii) | D23: jk"Vªh; cpr i= ¼NSC) | H23: ='Other Deduction'!C14 -> 0 | J23: (xii) | K23: isa'ku Iyku gsrq va'knku ¼/kkjk 80CCC½ | N23: ='Other Deduction'!F8 -> 0
C24: (iv) | D24: yksd Hkfo"; fuf/k ¼PPF) | H24: ='Other Deduction'!C16 -> 0 | J24: (xiii) | K24: jk"Vªh; cpr i= ij vnr C;kt | N24: ='Other Deduction'!C15 -> 0
C25: (v) | D25: jk"Vªh; cpr Ldhe ¼NSS) | H25: ='Other Deduction'!C17 -> 0 | J25: (xiv) | K25: V;w'ku Qhl | N25: ='Other Deduction'!C12 -> 0
C26: (vi) | D26: GPF / GPF 2004 | H26: =GA55A!N28 -> 80986 | J26: (xv) | K26: bfDoVh fyad lsfoax Ldhe | N26: ='Other Deduction'!C19 -> 0
C27: (vii) | D27: lkewfgd chek izhfe;e ¼G.Ins.) | H27: =GA55A!T28 -> 0 | J27: (xvi) | K27: LFkfxr okf"kZdh ¼Defferred Annuty) | N27: ='Other Deduction'!C20 -> 0
C28: (viii) | D28: ;w- ,y- vkbZ- ih-@okf"kZd Iyku | H28: ='Other Deduction'!C13 -> 0 | J28: (xvii) | K28: ih-,y-vkbZ- ¼PLI) | N28: ='Other Deduction'!C11 -> 0
C29: (ix) | D29: x`g _.k fdLr ¼HBA Premium) | H29: ='Other Deduction'!C8 -> 0 | J29: (xviii) | K29: vU; tek jkf'k ¼/kkjk 80 lh ds vUrxZr½ | N29: ='Other Deduction'!F7 -> 60000
C30: (x) | D30: lqdU;k le`f) ;kstuk esa tek jkf'k | H30: ='Other Deduction'!C18 -> 0 | J30: (xix) | K30: ;ksx ( i ls xviii ) | N30: =SUM(H21:I30)+SUM(N21:O29) -> 176986
C31: vf/kdre dVkSrh dh jkf'k 1.50 yk[k #i, rd | P31: =IF(N30<150001,ROUND(N30,0),150000) -> 150000
C32: (B) ?kVkb;s& /kkjk 80CCD(2) fu;ksDrk }kjk isa'ku va'knku dh jkf'k ¼vf/kdre osru dk 10%) i`Fkd ls NwV | P32: 0
C33: (C) ?kVkb;s & /kkjk 80CCD (1B) uohu isa'ku ;kstuk esa vfrfjDr va'knku ¼vf/kdre :- 50,000) | P33: =IF('Other Deduction'!F10>=50000,50000,'Other Deduction'!F10) -> 0
C34: ;ksx 11(A+B+C) | P34: =SUM(P31:Q33) -> 150000
B35: 12 | C35: vU; dVkSfr;k¡
C36: 1- /kkjk 80 D fpfdRlk chek izhfe;e ¼Lo;a]ifr@iRuh o cPpksa ds fy, : 25000] ekrk&firk ds fy, : 25,000 lhfu;j flVhtu : 50,000½ | P36: ='Other Deduction'!F11 -> 0
C37: 2- /kkjk 80 DD fodykax vkfJrksa ds fpfdRlk mipkj ¼vf/kdre 75,000 rFkk 80% ;k vf/kd fodykaxrk 125,000½ | P37: ='Other Deduction'!F12 -> 0
C38: 3- /kkjk 80 DDB fof'k"V jksaxksa ds mipkj gsrq dVkSrh ¼vf/kdre : 40,000] lhfu;j flVhtu gsrq : 100,000½ | P38: ='Other Deduction'!F13 -> 0
C39: 4- /kkjk 80 E mPp f'k{kk gsrq fy, _.k dk C;kt | P39: ='Other Deduction'!F14 -> 0
C40: 5- /kkjk 80 G /kekZFkZ laLFkkvksa vkfn dks fn;s nku ¼ d Js.kh esa 100 izfr'kr ,oa [k Js.kh esa 50 izfr'kr½ | P40: ='Other Deduction'!F15 -> 0
...

Sheet HRA Calculation
B2: Calculate Your HRA Exemption (Old Tax Regime) | J2: BASIC | K2: DA | L2: HRA
B3: Basic Salary Received (12 Month) | E3: ='HRA Calculation'!J15 -> 438400 | I3: 3 | J3: =GA55A!D8 -> 35800 | K3: =GA55A!E8 -> 17900 | L3: =GA55A!F8 -> 6444 | N3: =E8 -> 81864
B4: Dearness Allowance (DA) Received (12 Month) | E4: ='HRA Calculation'!K15 -> 223628 | I4: 4 | J4: =GA55A!D9 -> 35800 | K4: =GA55A!E9 -> 17900 | L4: =GA55A!F9 -> 6444 | N4: ='HRA Calculation'!J20 -> 264811
B5: Total Rent Paid By Empoloyee (12 Month) | E5: 120000 | I5: 5 | J5: =GA55A!D10 -> 35800 | K5: =GA55A!E10 -> 17900 | L5: =GA55A!F10 -> 6444 | N5: =IF((E5-'HRA Calculation'!J19)<0,0,(E5-'HRA Calculation'!J19)) -> 53797
I6: 6 | J6: =GA55A!D11 -> 35800 | K6: =GA55A!E11 -> 17900 | L6: =GA55A!F11 -> 6444 | N6: =MIN(N3:N5) -> 53797
B7: 40% of Salary (Basic +DA) | E7: ='HRA Calculation'!J20 -> 264811 | I7: 7 | J7: =GA55A!D12 -> 36900 | K7: =GA55A!E12 -> 18450 | L7: =GA55A!F12 -> 6642
B8: HRA Received (12 Month) | E8: ='HRA Calculation'!L15 -> 81864 | I8: 8 | J8: =GA55A!D13 -> 36900 | K8: =GA55A!E13 -> 18450 | L8: =GA55A!F13 -> 6642
B9: Excess of Rent paid over 10% of Salary | E9: =N5 -> 53797 | I9: 9 | J9: =GA55A!D14 -> 36900 | K9: =GA55A!E14 -> 18450 | L9: =GA55A!F14 -> 6642
I10: 10 | J10: =GA55A!D15 -> 36900 | K10: =GA55A!E15 -> 18450 | L10: =GA55A!F15 -> 6642
B11: Amount of Exempted HRA | E11: =N6 -> 53797 | I11: 11 | J11: =GA55A!D16 -> 36900 | K11: =GA55A!E16 -> 19557 | L11: =GA55A!F16 -> 7380
B12: Taxable House Rent Allowance | E12: =E8-E11 -> 28067 | I12: 12 | J12: =GA55A!D17 -> 36900 | K12: =GA55A!E17 -> 19557 | L12: =GA55A!F17 -> 7380
B13: lkHkkj % pUnz izdk'k dqehZZ izk/;kid HkkSfrdh] jk-m-ek-fo- VksMkjk;flag ¼dsdM+h½ fdlh Hkh izdkj dh rduhdh leL;k@lq>ko ds fy, bZesy djsa & cpkurmi@gmail.com | I13: 1 | J13: =GA55A!D18 -> 36900 | K13: =GA55A!E18 -> 19557 | L13: =GA55A!F18 -> 7380
I14: 2 | J14: =GA55A!D19 -> 36900 | K14: =GA55A!E19 -> 19557 | L14: =GA55A!F19 -> 7380
J15: =SUM(J3:J14) -> 438400 | K15: =SUM(K3:K14) -> 223628 | L15: =SUM(L3:L14) -> 81864
I17: T | J17: =SUM(E3:E4) -> 662028
I19: 0.1 | J19: =ROUND(J17*10%,0) -> 66203
I20: 0.4 | J20: =ROUND(J17*40%,0) -> 264811
